BEGIN:VCALENDAR
VERSION:2.0
PRODID:-//Marlen Dental - ECPv6.15.12.2//NONSGML v1.0//EN
CALSCALE:GREGORIAN
METHOD:PUBLISH
X-WR-CALNAME:Marlen Dental
X-ORIGINAL-URL:https://marlendent.al
X-WR-CALDESC:Events for Marlen Dental
REFRESH-INTERVAL;VALUE=DURATION:PT1H
X-Robots-Tag:noindex
X-PUBLISHED-TTL:PT1H
BEGIN:VTIMEZONE
TZID:UTC
BEGIN:STANDARD
TZOFFSETFROM:+0000
TZOFFSETTO:+0000
TZNAME:UTC
DTSTART:20220101T000000
END:STANDARD
END:VTIMEZONE
BEGIN:VEVENT
DTSTART;TZID=UTC:20250117T080000
DTEND;TZID=UTC:20250119T170000
DTSTAMP:20260421T221145
CREATED:20241210T175534Z
LAST-MODIFIED:20241211T130219Z
UID:629-1737100800-1737306000@marlendent.al
SUMMARY:KURSI INTESIV I IMPLANTOLOGJISË
DESCRIPTION:Marlen Dental zhvillon kursin e rradhës të implantologjisë ne datat 17-19 Janar 2025. \n‼️Numër i limituar pjesëmarrësish‼️\n📣Nxitoni të rezervoni! \n📍Kursi do të ndiqet në ambjentet e Klinikës\n“SHIJAKU DENTAL CENTER” pjese e Marlen Dental \n•Marlen Dental gjithmonë pranë jush me trajnime të ndryshme për mjekët stomatolog✅ \n📞 +355 69 519 0930\n📞 +355 69 404 8511\n📞 +355 69 659 3889
URL:https://marlendent.al/event/kursi-intesiv-i-implantologjise/
LOCATION:MarlenDental\, Rruga Vath Koreshi\, Tirana\, Albania\, Tirana\, Albania
CATEGORIES:Trainings
ATTACH;FMTTYPE=image/jpeg:https://marlendent.al/wp-content/uploads/2024/12/KURSI-INTENSIV-I-IMPLANTOLOGJISE-FAQJA-1.jpg
ORGANIZER;CN="Marlen Dental":MAILTO:marlen_shpk@yahoo.com
END:VEVENT
BEGIN:VEVENT
DTSTART;TZID=UTC:20241123T090000
DTEND;TZID=UTC:20241123T170000
DTSTAMP:20260421T221145
CREATED:20241120T151436Z
LAST-MODIFIED:20241210T174248Z
UID:485-1732352400-1732381200@marlendent.al
SUMMARY:GUIDED SURGERY Course
DESCRIPTION:Marlen Dental në bashkëpunim me JDental Care organizon në datën 23 Nëntor 2024 kursin intensiv GUIDED SURGERY që ndihmon doktorët në integrimin e teknikave të guided surgery.\nKursi është i ndarë në dy nivele (bazë dhe i avancuar)!\nRelator: Dr. Fadil Hoxha\, Dr. Lorenzo Lupacchini\, Dr. Renato Isufaj\nPër më shumë informacione na kontaktoni në inbox ose në numrat tanë të telefonit:\n📞 +355 69 404 8511\n📞 +355 69 659 3889
URL:https://marlendent.al/event/guided-surgery-course/
LOCATION:MarlenDental\, Rruga Vath Koreshi\, Tirana\, Albania\, Tirana\, Albania
CATEGORIES:Trainings
ORGANIZER;CN="Marlen Dental":MAILTO:marlen_shpk@yahoo.com
END:VEVENT
BEGIN:VEVENT
DTSTART;TZID=UTC:20241024T080000
DTEND;TZID=UTC:20241026T170000
DTSTAMP:20260421T221145
CREATED:20241120T151008Z
LAST-MODIFIED:20241120T151008Z
UID:482-1729756800-1729962000@marlendent.al
SUMMARY:HANDS-ON Prosthetically and aesthetically vertical and horizontal GBR. The CGBR method with resorbable materials.
DESCRIPTION:24 25 26 – OCTOBER 2024 Allianz MiCo – Milan\, Italy\nProsthetically and Aesthetically Guided Vertical and Horizontal Bone Regeneration: the CGBR method with Resorbable Materials \nWorkshop Overview\nHands-on practice on pig jaws and step-by-step surgical videos. Learn how to manage severe resorbed alveolar crest and release vestibular and lingual flaps. Discover when and why choosing resorbable materials.\nWorkshop Aim\nThis workshop aims to explain\, step by step\, how to achieve predictable results in the reconstruction of severe resorbed alveolar crest with the CGBR methods. It will be further explained in detail the techniques of flaps release as key factor for the surgical success. \nWorkshop Benefits\nAttending this course will enable you to gain the following skills:\n– Identifying the most suitable treatment for each patient.\n– Executing horizontal and vertical GBR treatments.\n– How to design a flap.\n– How to raise a flap in aesthetic and non-aesthetic areas.\n– How to successfully fix membranes.\n– How to release the vestibular and lingual flaps.\n– How to suture properly\n– Understanding the surgical and prosthetic timings\nScheduled Timing\n– Theoretical Session: step-by-step discussion of severe atrophic cases\, including the treatment planning.\n– Practical Session: detailed surgical videos showing each step of flap release.\n– Hands-on Practice: step-by-step surgical techniques on pig jaws.
URL:https://marlendent.al/event/hands-on-prosthetically-and-aesthetically-vertical-and-horizontal-gbr-the-cgbr-method-with-resorbable-materials/
LOCATION:Allianz MiCo – Milan\, Italy\, Allianz MiCo – Milan\, Italy\, Milano\, Italy
CATEGORIES:Trainings
END:VEVENT
BEGIN:VEVENT
DTSTART;VALUE=DATE:20240908
DTEND;VALUE=DATE:20240912
DTSTAMP:20260421T221145
CREATED:20241120T150317Z
LAST-MODIFIED:20241120T150634Z
UID:477-1725832800-1726091999@marlendent.al
SUMMARY:ANATOMICAL DISSECTION COURSE ON HUMAN AUTOPSY SPECIMENS: basic and advanced surgical procedures
DESCRIPTION:UNIVERSITY OF INNSBRUCK Institute of Anatomy\, Histology\, and Embryology\n09-10-11 SEPTEMBER 2024 \n \nTHEORETICAL PART\nThe theoretical part will take place in the main lecture hall\, with a focus on maxillofacial anatomy.\n• Anatomy of the maxillofacial region\, specifically: the mandible\, maxillary sinus\, and the floor of the oral cavity.\n• Topographic anatomy of the maxillary\, mandibular\, temporal regions\, and the neck area (course and identification of vascular and nervous structures).\nUBGEN Cadaver Course 9-10-11 Septembre -Insbruck
URL:https://marlendent.al/event/anatomical-dissection-course-on-human-autopsy-specimens-basic-and-advanced-surgical-procedures/
LOCATION:UNIVERSITY OF INNSBRUCK Institute of Anatomy\, Histology\, and Embryology
CATEGORIES:Trainings
END:VEVENT
BEGIN:VEVENT
DTSTART;TZID=UTC:20240524T080000
DTEND;TZID=UTC:20240525T170000
DTSTAMP:20260421T221145
CREATED:20240523T174735Z
LAST-MODIFIED:20241210T175025Z
UID:625-1716537600-1716656400@marlendent.al
SUMMARY:KURSI BAZË I IMPLANTOLOGJISË
DESCRIPTION:Marlen Dental zhvillon kursin e rradhës të implantologjisë.\n‼️Numër i limituar pjesëmarrësish‼️\n📣Nxitoni të rezervoni! \n📍Kursi do të ndiqet në ambjentet e Klinikës\nStomatologjike Universitare\, Albanian University Tiranë. \n•Marlen Dental gjithmonë pranë jush me trajnime të ndryshme për mjekët stomatolog✅
URL:https://marlendent.al/event/kursi-baze-i-implantologjise/
LOCATION:MarlenDental\, Rruga Vath Koreshi\, Tirana\, Albania\, Tirana\, Albania
CATEGORIES:Trainings
ATTACH;FMTTYPE=image/jpeg:https://marlendent.al/wp-content/uploads/2024/12/KURSI-BAZE-I-IMPLANTOLOGJISE-1.jpg
END:VEVENT
BEGIN:VEVENT
DTSTART;TZID=UTC:20240511T080000
DTEND;TZID=UTC:20240511T170000
DTSTAMP:20260421T221145
CREATED:20240501T174325Z
LAST-MODIFIED:20241210T174706Z
UID:620-1715414400-1715446800@marlendent.al
SUMMARY:Maxilla-For-All
DESCRIPTION:Në kuadër të Koferencës Kombëtare të Shkencave Mjekësore\, Marlen Dental në bashkëpunim me JDental Care zhvillon Workshop me Dr. Ruggero Leoncavallo. \n✅ Tema: Maxilla-For-All\n✅ Kredite: 18 \n📍 Kursi zhvillohet me datën 11 Maj në Tirana International Hotel.
URL:https://marlendent.al/event/maxilla-for-all/
CATEGORIES:Trainings
ATTACH;FMTTYPE=image/jpeg:https://marlendent.al/wp-content/uploads/2024/12/JDENTALCAR-Zhvillon-Workshop-me-Dr-Ruggero-Leoncavallo.jpg
ORGANIZER;CN="Marlen Dental":MAILTO:marlen_shpk@yahoo.com
END:VEVENT
BEGIN:VEVENT
DTSTART;TZID=UTC:20231215T080000
DTEND;TZID=UTC:20231216T170000
DTSTAMP:20260421T221145
CREATED:20231210T180016Z
LAST-MODIFIED:20241210T180034Z
UID:635-1702627200-1702746000@marlendent.al
SUMMARY:Kurs për teknikën Gli Impianti Iuxtaossei
DESCRIPTION:
URL:https://marlendent.al/event/kurs-per-tekniken-gli-impianti-iuxtaossei/
LOCATION:Brescia Dental Hospital
CATEGORIES:Trainings
END:VEVENT
END:VCALENDAR