BEGIN:VCALENDAR
VERSION:2.0
PRODID:-//Marlen Dental - ECPv6.15.12.2//NONSGML v1.0//EN
CALSCALE:GREGORIAN
METHOD:PUBLISH
X-ORIGINAL-URL:https://marlendent.al
X-WR-CALDESC:Events for Marlen Dental
REFRESH-INTERVAL;VALUE=DURATION:PT1H
X-Robots-Tag:noindex
X-PUBLISHED-TTL:PT1H
BEGIN:VTIMEZONE
TZID:UTC
BEGIN:STANDARD
TZOFFSETFROM:+0000
TZOFFSETTO:+0000
TZNAME:UTC
DTSTART:20240101T000000
END:STANDARD
END:VTIMEZONE
BEGIN:VEVENT
DTSTART;TZID=UTC:20251205T080000
DTEND;TZID=UTC:20251206T170000
DTSTAMP:20260419T192554
CREATED:20250904T150904Z
LAST-MODIFIED:20251209T094800Z
UID:1570-1764921600-1765040400@marlendent.al
SUMMARY:KURS I AVANCUA IMPLANTOLOGJISË
DESCRIPTION:Data 5 DHJETOR 2025\n08:30  \n – Prezantim I shkurter mbi kursin \n09:00- 11:00 Pjesa Teorike   Dr. Matteo Giorgi\nKirurg me eksperiencë në implantologjinë e avancuar\, i diplomuar në Universitetin e Pizës\, i specializuar në implantologji zigomatike në Sao Paolo-Brazil dhe autor i një teknike universale me protokoll të thjeshtë e të sigurt. \n\nAnatomia e rrethit zigomatik\nKriteret dhe protokolli I kirurgjise zigomatike ekstra-sinusale\n\n11:00 -11:30  \n\n-Pushimi i kafes\n\n11:30-13:30 \n\nPraktike mbi modele\n\n13:30-14:30 \n\nPushimi I drekes\n\n14:30-18:00 \n\n-Diskutimi I rasteve klinike nepermjet grafise dixhitale dhe nderhyrja kirurgjikale mbi paciente\n\nData 6 DHJETOR 2025\n08:30\n\n-Diskutimi I rasteve klinike nepermjet grafise dixhitale dhe nderhyrja kirurgjikale mbi paciente\n\n13:30-14:30\n\n\n Pushimi I drekes me alternime\n\n\n14:30-18:00 Vazhdimi I nderhyrjes kirurgjikale mbi paciente\n\n\n\n\nNe fund te kursit pjesemarresit do te pajisen me certifikata. \n\n\nFoto grupi
URL:https://marlendent.al/event/kurs-i-avancua-implantologjise/
LOCATION:MarlenDental\, Rruga Vath Koreshi\, Tirana\, Albania\, Tirana\, Albania
CATEGORIES:Trainings
ATTACH;FMTTYPE=image/jpeg:https://marlendent.al/wp-content/uploads/2025/09/1.jpeg
ORGANIZER;CN="Marlen Dental":MAILTO:marlen_shpk@yahoo.com
END:VEVENT
BEGIN:VEVENT
DTSTART;TZID=UTC:20260424T080000
DTEND;TZID=UTC:20260606T170000
DTSTAMP:20260419T192554
CREATED:20260213T140828Z
LAST-MODIFIED:20260213T141002Z
UID:1604-1777017600-1780765200@marlendent.al
SUMMARY:COMPLETE IMPLANTOLOGY COURSE
DESCRIPTION:COMPLETE IMPLANTOLOGY COURSE\n📚 Theory & practice on models\n📆 3 full intensive meetings \n👨‍⚕️ Under the direction of Prof. Giovanni Falisi\, this course is designed for dentists who want to strengthen the basics and advance in implantology. \n🗓 Course dates:\n▫️ Meeting I: 24–25 April 2026\n▫️ Meeting II: 23 May 2026\n▫️ Meeting III: 6 June 2026 \n🤝 Powered by Marlen Dental\n📍 In collaboration with J Dental Care \n📞 For information & registration:\n+355 69 65 93 889\n+355 69 40 48 511″>COMPLETE IMPLANTOLOGY COURSE\n📚 Theory & practice on models\n📆 3 full intensive meetings \n👨‍⚕️ Under the direction of Prof. Giovanni Falisi\, this course is designed for dentists who want to strengthen the basics and advance in implantology. \n🗓 Course dates:\n▫️ Meeting I: 24–25 April 2026\n▫️ Meeting II: 23 May 2026\n▫️ Meeting III: 6 June 2026 \n🤝 Powered by Marlen Dental\n📍 In collaboration with J Dental Care \n📞 For information & registration:\n+355 69 65 93 889\n+355 69 40 48 511
URL:https://marlendent.al/event/complete-implantology-course/
CATEGORIES:Trainings
ATTACH;FMTTYPE=image/jpeg:https://marlendent.al/wp-content/uploads/2026/02/SnapInsta.to_598391286_1302921268532015_4937474572840496547_n.jpg.jpeg
ORGANIZER;CN="Marlen Dental":MAILTO:marlen_shpk@yahoo.com
END:VEVENT
END:VCALENDAR