BEGIN:VCALENDAR
VERSION:2.0
PRODID:-//Marlen Dental - ECPv6.15.12.2//NONSGML v1.0//EN
CALSCALE:GREGORIAN
METHOD:PUBLISH
X-WR-CALNAME:Marlen Dental
X-ORIGINAL-URL:https://marlendent.al
X-WR-CALDESC:Events for Marlen Dental
REFRESH-INTERVAL;VALUE=DURATION:PT1H
X-Robots-Tag:noindex
X-PUBLISHED-TTL:PT1H
BEGIN:VTIMEZONE
TZID:UTC
BEGIN:STANDARD
TZOFFSETFROM:+0000
TZOFFSETTO:+0000
TZNAME:UTC
DTSTART:20220101T000000
END:STANDARD
END:VTIMEZONE
BEGIN:VEVENT
DTSTART;TZID=UTC:20231215T080000
DTEND;TZID=UTC:20231216T170000
DTSTAMP:20260419T164822
CREATED:20231210T180016Z
LAST-MODIFIED:20241210T180034Z
UID:635-1702627200-1702746000@marlendent.al
SUMMARY:Kurs për teknikën Gli Impianti Iuxtaossei
DESCRIPTION:
URL:https://marlendent.al/event/kurs-per-tekniken-gli-impianti-iuxtaossei/
LOCATION:Brescia Dental Hospital
CATEGORIES:Trainings
END:VEVENT
END:VCALENDAR